BEGIN:VCALENDAR
VERSION:2.0
PRODID:-//Three Rivers Whitewater - ECPv6.15.20//NONSGML v1.0//EN
CALSCALE:GREGORIAN
METHOD:PUBLISH
X-WR-CALNAME:Three Rivers Whitewater
X-ORIGINAL-URL:https://threeriverswhitewater.com
X-WR-CALDESC:Events for Three Rivers Whitewater
REFRESH-INTERVAL;VALUE=DURATION:PT1H
X-Robots-Tag:noindex
X-PUBLISHED-TTL:PT1H
BEGIN:VTIMEZONE
TZID:America/New_York
BEGIN:DAYLIGHT
TZOFFSETFROM:-0500
TZOFFSETTO:-0400
TZNAME:EDT
DTSTART:20210314T070000
END:DAYLIGHT
BEGIN:STANDARD
TZOFFSETFROM:-0400
TZOFFSETTO:-0500
TZNAME:EST
DTSTART:20211107T060000
END:STANDARD
BEGIN:DAYLIGHT
TZOFFSETFROM:-0500
TZOFFSETTO:-0400
TZNAME:EDT
DTSTART:20220313T070000
END:DAYLIGHT
BEGIN:STANDARD
TZOFFSETFROM:-0400
TZOFFSETTO:-0500
TZNAME:EST
DTSTART:20221106T060000
END:STANDARD
BEGIN:DAYLIGHT
TZOFFSETFROM:-0500
TZOFFSETTO:-0400
TZNAME:EDT
DTSTART:20230312T070000
END:DAYLIGHT
BEGIN:STANDARD
TZOFFSETFROM:-0400
TZOFFSETTO:-0500
TZNAME:EST
DTSTART:20231105T060000
END:STANDARD
END:VTIMEZONE
BEGIN:VEVENT
DTSTART;TZID=America/New_York:20220708T210000
DTEND;TZID=America/New_York:20220708T210000
DTSTAMP:20260420T184852
CREATED:20220504T174405Z
LAST-MODIFIED:20220525T135711Z
UID:242318-1657314000-1657314000@threeriverswhitewater.com
SUMMARY:Karaoke Night
DESCRIPTION:Friday is Karaoke Night! Sing\, dance\, or plug your ears every Friday with Karaoke at Boatman’s Bar & Grill! First song begins at 9pm sharp
URL:https://threeriverswhitewater.com/even/karaoke-night-2022-07-08/
LOCATION:ME
CATEGORIES:Karaoke Night
ATTACH;FMTTYPE=image/jpeg:https://threeriverswhitewater.com/wp-content/uploads/2022/05/3-min.jpg
END:VEVENT
BEGIN:VEVENT
DTSTART;TZID=America/New_York:20220704T190000
DTEND;TZID=America/New_York:20220704T230000
DTSTAMP:20260420T184852
CREATED:20220504T174910Z
LAST-MODIFIED:20220504T220548Z
UID:242218-1656961200-1656975600@threeriverswhitewater.com
SUMMARY:DISCO INFERNO
DESCRIPTION:Disco isn’t Dead! Rock your best 70’s outfit and join us for a night of Disco\, Funk\, Drinks & Dancing
URL:https://threeriverswhitewater.com/even/disco-inferno/
LOCATION:ME
CATEGORIES:Disco Party
ATTACH;FMTTYPE=image/jpeg:https://threeriverswhitewater.com/wp-content/uploads/2022/05/10-min.jpg
END:VEVENT
BEGIN:VEVENT
DTSTART;TZID=America/New_York:20220704T090000
DTEND;TZID=America/New_York:20220704T130000
DTSTAMP:20260420T184852
CREATED:20220504T174910Z
LAST-MODIFIED:20220504T220551Z
UID:242217-1656925200-1656939600@threeriverswhitewater.com
SUMMARY:8K High Water Release
DESCRIPTION:Every year Harris Station Dam schedules 4 high water “turbine tests” where they release their maximum flows at 8000 CFS or more!  This turns the rapids we normally run on our Kennebec River trip into the BIGGEST rapids in New England! If you enjoyed our normal Kennebec River trips but wanted more action\, this is the trip for you.
URL:https://threeriverswhitewater.com/even/8k-high-water-release-2/
LOCATION:Three Rivers Whitewater\, 2265 US-201\, West Forks\, ME\, 04985\, United States
CATEGORIES:High Water Release
ATTACH;FMTTYPE=image/jpeg:https://threeriverswhitewater.com/wp-content/uploads/2022/05/13-min.jpg
END:VEVENT
BEGIN:VEVENT
DTSTART;TZID=America/New_York:20220702T190000
DTEND;TZID=America/New_York:20220702T230000
DTSTAMP:20260420T184852
CREATED:20220504T174910Z
LAST-MODIFIED:20220504T223829Z
UID:242216-1656788400-1656802800@threeriverswhitewater.com
SUMMARY:Div Kid
DESCRIPTION:Enjoy the music of Div Kid!  We feature live music and a bonfire every weekend at the Boatman’s Bar & Grill!
URL:https://threeriverswhitewater.com/even/div-kid/
LOCATION:ME
CATEGORIES:Live Music
ATTACH;FMTTYPE=image/png:https://threeriverswhitewater.com/wp-content/uploads/2022/05/Facebook-Event-Templates.png
END:VEVENT
BEGIN:VEVENT
DTSTART;TZID=America/New_York:20220701T210000
DTEND;TZID=America/New_York:20220701T210000
DTSTAMP:20260420T184852
CREATED:20220504T174405Z
LAST-MODIFIED:20220525T135711Z
UID:242317-1656709200-1656709200@threeriverswhitewater.com
SUMMARY:Karaoke Night
DESCRIPTION:Friday is Karaoke Night! Sing\, dance\, or plug your ears every Friday with Karaoke at Boatman’s Bar & Grill! First song begins at 9pm sharp
URL:https://threeriverswhitewater.com/even/karaoke-night-2022-07-01/
LOCATION:ME
CATEGORIES:Karaoke Night
ATTACH;FMTTYPE=image/jpeg:https://threeriverswhitewater.com/wp-content/uploads/2022/05/3-min.jpg
END:VEVENT
BEGIN:VEVENT
DTSTART;TZID=America/New_York:20220624T210000
DTEND;TZID=America/New_York:20220624T210000
DTSTAMP:20260420T184852
CREATED:20220504T174405Z
LAST-MODIFIED:20220525T135710Z
UID:242316-1656104400-1656104400@threeriverswhitewater.com
SUMMARY:Karaoke Night
DESCRIPTION:Friday is Karaoke Night! Sing\, dance\, or plug your ears every Friday with Karaoke at Boatman’s Bar & Grill! First song begins at 9pm sharp
URL:https://threeriverswhitewater.com/even/karaoke-night-2022-06-24/
LOCATION:ME
CATEGORIES:Karaoke Night
ATTACH;FMTTYPE=image/jpeg:https://threeriverswhitewater.com/wp-content/uploads/2022/05/3-min.jpg
END:VEVENT
BEGIN:VEVENT
DTSTART;TZID=America/New_York:20220617T210000
DTEND;TZID=America/New_York:20220617T210000
DTSTAMP:20260420T184852
CREATED:20220504T174405Z
LAST-MODIFIED:20220525T135710Z
UID:242315-1655499600-1655499600@threeriverswhitewater.com
SUMMARY:Karaoke Night
DESCRIPTION:Friday is Karaoke Night! Sing\, dance\, or plug your ears every Friday with Karaoke at Boatman’s Bar & Grill! First song begins at 9pm sharp
URL:https://threeriverswhitewater.com/even/karaoke-night-2022-06-17/
LOCATION:ME
CATEGORIES:Karaoke Night
ATTACH;FMTTYPE=image/jpeg:https://threeriverswhitewater.com/wp-content/uploads/2022/05/3-min.jpg
END:VEVENT
BEGIN:VEVENT
DTSTART;TZID=America/New_York:20220611T090000
DTEND;TZID=America/New_York:20220611T130000
DTSTAMP:20260420T184852
CREATED:20220504T174405Z
LAST-MODIFIED:20220504T215701Z
UID:242213-1654938000-1654952400@threeriverswhitewater.com
SUMMARY:8K High Water Release
DESCRIPTION:Every year Harris Station Dam schedules 4 high water “turbine tests” where they release their maximum flows at 8000 CFS or more!  This turns the rapids we normally run on our Kennebec River trip into the BIGGEST rapids in New England! If you enjoyed our normal Kennebec River trips but wanted more action\, this is the trip for you.
URL:https://threeriverswhitewater.com/even/8k-high-water-release/
LOCATION:Three Rivers Whitewater\, 2265 US-201\, West Forks\, ME\, 04985\, United States
CATEGORIES:High Water Release
ATTACH;FMTTYPE=image/jpeg:https://threeriverswhitewater.com/wp-content/uploads/2022/05/26-min.jpg
END:VEVENT
BEGIN:VEVENT
DTSTART;TZID=America/New_York:20220610T210000
DTEND;TZID=America/New_York:20220610T210000
DTSTAMP:20260420T184852
CREATED:20220504T174405Z
LAST-MODIFIED:20220525T135710Z
UID:242212-1654894800-1654894800@threeriverswhitewater.com
SUMMARY:Karaoke Night
DESCRIPTION:Friday is Karaoke Night! Sing\, dance\, or plug your ears every Friday with Karaoke at Boatman’s Bar & Grill! First song begins at 9pm sharp
URL:https://threeriverswhitewater.com/even/karaoke-night/
LOCATION:ME
CATEGORIES:Karaoke Night
ATTACH;FMTTYPE=image/jpeg:https://threeriverswhitewater.com/wp-content/uploads/2022/05/3-min.jpg
END:VEVENT
BEGIN:VEVENT
DTSTART;TZID=America/New_York:20220604T080000
DTEND;TZID=America/New_York:20220604T150000
DTSTAMP:20260420T184852
CREATED:20220504T174405Z
LAST-MODIFIED:20220504T211418Z
UID:242211-1654329600-1654354800@threeriverswhitewater.com
SUMMARY:Dead 4k Release
DESCRIPTION:The Dead River Rafting Trip is the most unique river trip in Maine. We only raft the Dead River 8 times per season during a Dead River Release. This river trip is known for having the most continuous stretch of whitewater rapids in the East.
URL:https://threeriverswhitewater.com/even/dead-4k-release/
LOCATION:Three Rivers Whitewater\, 2265 US-201\, West Forks\, ME\, 04985\, United States
CATEGORIES:Dead River Release
ATTACH;FMTTYPE=image/jpeg:https://threeriverswhitewater.com/wp-content/uploads/2022/05/34.jpg
END:VEVENT
BEGIN:VEVENT
DTSTART;TZID=America/New_York:20220529T130000
DTEND;TZID=America/New_York:20220529T210000
DTSTAMP:20260420T184852
CREATED:20220504T174358Z
LAST-MODIFIED:20220504T213808Z
UID:242209-1653829200-1653858000@threeriverswhitewater.com
SUMMARY:Reggae Sunday - RED LION ROCKERS
DESCRIPTION:Reggae Sunday is a celebration\, twice a year\, at the Inn By The River! Enjoy fresh Jamaican food specials on the grill and outdoor live music into the evening
URL:https://threeriverswhitewater.com/even/reggae-sunday-red-lion-rockers/
LOCATION:Inn By The River\, 2777 US-201\, West Forks\, ME\, 04985\, United States
CATEGORIES:Reggae Sunday
ATTACH;FMTTYPE=image/jpeg:https://threeriverswhitewater.com/wp-content/uploads/2020/09/reggae-min.jpg
END:VEVENT
BEGIN:VEVENT
DTSTART;TZID=America/New_York:20220529T080000
DTEND;TZID=America/New_York:20220529T150000
DTSTAMP:20260420T184852
CREATED:20220504T174405Z
LAST-MODIFIED:20220504T210941Z
UID:242210-1653811200-1653836400@threeriverswhitewater.com
SUMMARY:Dead River 6k Release
DESCRIPTION:The Dead River Rafting Trip is the most unique river trip in Maine. We only raft the Dead River 8 times per season during a Dead River Release. This river trip is known for having the most continuous stretch of whitewater rapids in the East.
URL:https://threeriverswhitewater.com/even/dead-6k-release-3/
LOCATION:Three Rivers Whitewater\, 2265 US-201\, West Forks\, ME\, 04985\, United States
CATEGORIES:Dead River Release
ATTACH;FMTTYPE=image/jpeg:https://threeriverswhitewater.com/wp-content/uploads/2022/05/33.jpg
END:VEVENT
BEGIN:VEVENT
DTSTART;TZID=America/New_York:20220521T080000
DTEND;TZID=America/New_York:20220521T150000
DTSTAMP:20260420T184852
CREATED:20220504T174358Z
LAST-MODIFIED:20220504T210904Z
UID:242208-1653120000-1653145200@threeriverswhitewater.com
SUMMARY:Dead River 6k Release
DESCRIPTION:The Dead River Rafting Trip is the most unique river trip in Maine. We only raft the Dead River 8 times per season during a Dead River Release. This river trip is known for having the most continuous stretch of whitewater rapids in the East.
URL:https://threeriverswhitewater.com/even/dead-6k-release-2/
LOCATION:Three Rivers Whitewater\, 2265 US-201\, West Forks\, ME\, 04985\, United States
CATEGORIES:Dead River Release
ATTACH;FMTTYPE=image/jpeg:https://threeriverswhitewater.com/wp-content/uploads/2022/05/32.jpg
END:VEVENT
BEGIN:VEVENT
DTSTART;TZID=America/New_York:20220514T080000
DTEND;TZID=America/New_York:20220514T150000
DTSTAMP:20260420T184852
CREATED:20220504T174358Z
LAST-MODIFIED:20220504T210833Z
UID:242207-1652515200-1652540400@threeriverswhitewater.com
SUMMARY:Dead River 6k Release
DESCRIPTION:The Dead River Rafting Trip is the most unique river trip in Maine. We only raft the Dead River 8 times per season during a Dead River Release. This river trip is known for having the most continuous stretch of whitewater rapids in the East.
URL:https://threeriverswhitewater.com/even/dead-6k-release/
LOCATION:Three Rivers Whitewater\, 2265 US-201\, West Forks\, ME\, 04985\, United States
CATEGORIES:Dead River Release
ATTACH;FMTTYPE=image/jpeg:https://threeriverswhitewater.com/wp-content/uploads/2022/05/31.jpg
END:VEVENT
BEGIN:VEVENT
DTSTART;TZID=America/New_York:20220507T190000
DTEND;TZID=America/New_York:20220507T230000
DTSTAMP:20260420T184852
CREATED:20220504T174358Z
LAST-MODIFIED:20220504T204746Z
UID:242206-1651950000-1651964400@threeriverswhitewater.com
SUMMARY:First Blast - JC and The Pick Ups
DESCRIPTION:It’s First Blast! Enjoy the tunes of Three River’s own\, iconic\, JC & the Pick Ups
URL:https://threeriverswhitewater.com/even/first-blast-jc-and-pick-ups/
LOCATION:ME
CATEGORIES:Live Music
ATTACH;FMTTYPE=image/jpeg:https://threeriverswhitewater.com/wp-content/uploads/2022/05/30.jpg
END:VEVENT
BEGIN:VEVENT
DTSTART;TZID=America/New_York:20220507T080000
DTEND;TZID=America/New_York:20220507T150000
DTSTAMP:20260420T184852
CREATED:20220504T174358Z
LAST-MODIFIED:20220504T204603Z
UID:242205-1651910400-1651935600@threeriverswhitewater.com
SUMMARY:First Blast - Dead 6k Release
DESCRIPTION:It’s First Blast! Ride an amazing 6000 CFS release on the Dead River!
URL:https://threeriverswhitewater.com/even/first-blast-dead-6k-release/
LOCATION:Three Rivers Whitewater\, 2265 US-201\, West Forks\, ME\, 04985\, United States
CATEGORIES:Dead River Release
ATTACH;FMTTYPE=image/jpeg:https://threeriverswhitewater.com/wp-content/uploads/2022/05/30.jpg
END:VEVENT
END:VCALENDAR