BEGIN:VCALENDAR
VERSION:2.0
PRODID:-//Three Rivers Whitewater - ECPv6.15.20//NONSGML v1.0//EN
CALSCALE:GREGORIAN
METHOD:PUBLISH
X-WR-CALNAME:Three Rivers Whitewater
X-ORIGINAL-URL:https://threeriverswhitewater.com
X-WR-CALDESC:Events for Three Rivers Whitewater
REFRESH-INTERVAL;VALUE=DURATION:PT1H
X-Robots-Tag:noindex
X-PUBLISHED-TTL:PT1H
BEGIN:VTIMEZONE
TZID:America/New_York
BEGIN:DAYLIGHT
TZOFFSETFROM:-0500
TZOFFSETTO:-0400
TZNAME:EDT
DTSTART:20210314T070000
END:DAYLIGHT
BEGIN:STANDARD
TZOFFSETFROM:-0400
TZOFFSETTO:-0500
TZNAME:EST
DTSTART:20211107T060000
END:STANDARD
BEGIN:DAYLIGHT
TZOFFSETFROM:-0500
TZOFFSETTO:-0400
TZNAME:EDT
DTSTART:20220313T070000
END:DAYLIGHT
BEGIN:STANDARD
TZOFFSETFROM:-0400
TZOFFSETTO:-0500
TZNAME:EST
DTSTART:20221106T060000
END:STANDARD
BEGIN:DAYLIGHT
TZOFFSETFROM:-0500
TZOFFSETTO:-0400
TZNAME:EDT
DTSTART:20230312T070000
END:DAYLIGHT
BEGIN:STANDARD
TZOFFSETFROM:-0400
TZOFFSETTO:-0500
TZNAME:EST
DTSTART:20231105T060000
END:STANDARD
BEGIN:DAYLIGHT
TZOFFSETFROM:-0500
TZOFFSETTO:-0400
TZNAME:EDT
DTSTART:20240310T070000
END:DAYLIGHT
BEGIN:STANDARD
TZOFFSETFROM:-0400
TZOFFSETTO:-0500
TZNAME:EST
DTSTART:20241103T060000
END:STANDARD
BEGIN:DAYLIGHT
TZOFFSETFROM:-0500
TZOFFSETTO:-0400
TZNAME:EDT
DTSTART:20250309T070000
END:DAYLIGHT
BEGIN:STANDARD
TZOFFSETFROM:-0400
TZOFFSETTO:-0500
TZNAME:EST
DTSTART:20251102T060000
END:STANDARD
BEGIN:DAYLIGHT
TZOFFSETFROM:-0500
TZOFFSETTO:-0400
TZNAME:EDT
DTSTART:20260308T070000
END:DAYLIGHT
BEGIN:STANDARD
TZOFFSETFROM:-0400
TZOFFSETTO:-0500
TZNAME:EST
DTSTART:20261101T060000
END:STANDARD
END:VTIMEZONE
BEGIN:VEVENT
DTSTART;TZID=America/New_York:20250719T210000
DTEND;TZID=America/New_York:20250719T230000
DTSTAMP:20260423T161729
CREATED:20250710T200152Z
LAST-MODIFIED:20250711T163418Z
UID:246179-1752958800-1752966000@threeriverswhitewater.com
SUMMARY:LIVE MUSIC - Rigometrics
DESCRIPTION:Presented by ORONO BREWING – Saturday July19th- RIGOMETRICS comes to the Boatman’s Bar and Grill !!!
URL:https://threeriverswhitewater.com/even/live-music-rigometrics/
LOCATION:Boatman’s Bar & Grille\, 2265 US-201\, West Forks\, West Forks\, ME\, 04985\, United States
CATEGORIES:Live Music
ATTACH;FMTTYPE=image/jpeg:https://threeriverswhitewater.com/wp-content/uploads/2025/07/502377716_1157644069735527_416911938489475328_n.jpg
END:VEVENT
BEGIN:VEVENT
DTSTART;TZID=America/New_York:20250718T200000
DTEND;TZID=America/New_York:20250718T233000
DTSTAMP:20260423T161729
CREATED:20250717T182913Z
LAST-MODIFIED:20250717T182913Z
UID:246256-1752868800-1752881400@threeriverswhitewater.com
SUMMARY:Friday Night Karaoke
DESCRIPTION:Karaoke is always happening here at The Boatman’s Bar and Grill on Friday Nights. Come down and sing your heart out in the forks.
URL:https://threeriverswhitewater.com/even/friday-night-karaoke/
LOCATION:Boatman’s Bar & Grille\, 2265 US-201\, West Forks\, West Forks\, ME\, 04985\, United States
CATEGORIES:Karaoke Night
ATTACH;FMTTYPE=image/jpeg:https://threeriverswhitewater.com/wp-content/uploads/2025/07/karaoke-night.jpg
END:VEVENT
BEGIN:VEVENT
DTSTART;VALUE=DATE:20250717
DTEND;VALUE=DATE:20250718
DTSTAMP:20260423T161729
CREATED:20250710T201420Z
LAST-MODIFIED:20250711T163601Z
UID:246186-1752710400-1752796799@threeriverswhitewater.com
SUMMARY:WING NIGHT
DESCRIPTION:$1 WINGS $2 PBRS EVERY THURSDAY NIGHT AT BOATMAN’S BAR AND GRILL
URL:https://threeriverswhitewater.com/even/wing-night-2/
LOCATION:Boatman’s Bar & Grille\, 2265 US-201\, West Forks\, West Forks\, ME\, 04985\, United States
CATEGORIES:Food Specials
ATTACH;FMTTYPE=image/jpeg:https://threeriverswhitewater.com/wp-content/uploads/2025/07/wing-night-thurs-Millinocket-2.jpg
END:VEVENT
BEGIN:VEVENT
DTSTART;VALUE=DATE:20250715
DTEND;VALUE=DATE:20250716
DTSTAMP:20260423T161729
CREATED:20250710T203355Z
LAST-MODIFIED:20250711T163910Z
UID:246196-1752537600-1752623999@threeriverswhitewater.com
SUMMARY:TACO TUESDAYS
DESCRIPTION:EVERY TUESDAY AT THE BOATMANS BAR AND GRILL – All you can eat taco bar for 16 dollars + $ 2 dollar tequila shots – $4 dollar margaritas.
URL:https://threeriverswhitewater.com/even/taco-tuesdays/
LOCATION:Boatman’s Bar & Grille\, 2265 US-201\, West Forks\, West Forks\, ME\, 04985\, United States
CATEGORIES:Food Specials
ATTACH;FMTTYPE=image/jpeg:https://threeriverswhitewater.com/wp-content/uploads/2025/07/Taco-Tues-Millinocket.jpg
END:VEVENT
BEGIN:VEVENT
DTSTART;TZID=America/New_York:20250712T200000
DTEND;TZID=America/New_York:20250712T230000
DTSTAMP:20260423T161729
CREATED:20250710T155745Z
LAST-MODIFIED:20250710T181156Z
UID:246143-1752350400-1752361200@threeriverswhitewater.com
SUMMARY:LIVE MUSIC - One Sixty One Band at the Boatman's Bar and Grill
DESCRIPTION:From 8-11 pm OneSixtyOne is heading to The Forks! Join us as we hit the one-and-only Boatman’s Bar & Grill at Three Rivers Whitewater for an all ages\, 100% good-times event! Raft. Tube. Party. Repeat! \n The Boatman’s Bar and Grill will have Food and Drinks available. We also have lodging option across the street from campsites to cabins we have you covered!
URL:https://threeriverswhitewater.com/even/live-music-one-sixty-one-band-at-the-boatmans-bar-and-grill/
LOCATION:Boatman’s Bar & Grille\, 2265 US-201\, West Forks\, West Forks\, ME\, 04985\, United States
CATEGORIES:Live Music
ATTACH;FMTTYPE=image/jpeg:https://threeriverswhitewater.com/wp-content/uploads/2025/07/161-band.jpg
END:VEVENT
BEGIN:VEVENT
DTSTART;TZID=America/New_York:20250710T080000
DTEND;TZID=America/New_York:20250710T170000
DTSTAMP:20260423T161729
CREATED:20250710T200643Z
LAST-MODIFIED:20250710T202109Z
UID:246182-1752134400-1752166800@threeriverswhitewater.com
SUMMARY:WING NIGHT
DESCRIPTION:$1 WINGS $2 PBRS EVERY THURSDAY NIGHT AT BOATMAN’S BAR AND GRILL
URL:https://threeriverswhitewater.com/even/wing-night/
LOCATION:ME
ATTACH;FMTTYPE=image/png:https://threeriverswhitewater.com/wp-content/uploads/2019/12/Untitled-3-06.png
END:VEVENT
BEGIN:VEVENT
DTSTART;TZID=America/New_York:20221001T190000
DTEND;TZID=America/New_York:20221001T190000
DTSTAMP:20260423T161729
CREATED:20220504T180736Z
LAST-MODIFIED:20220504T211613Z
UID:242240-1664650800-1664650800@threeriverswhitewater.com
SUMMARY:Last Blast - JC & PICKUPS
DESCRIPTION:It’s Last Blast! Enjoy the tines of Three River’s own\, iconic\, JC & the Pick Ups
URL:https://threeriverswhitewater.com/even/last-blast-jc-pickups/
LOCATION:Three Rivers Whitewater\, 2265 US-201\, West Forks\, ME\, 04985\, United States
CATEGORIES:Live Music
ATTACH;FMTTYPE=image/jpeg:https://threeriverswhitewater.com/wp-content/uploads/2022/05/37.jpg
END:VEVENT
BEGIN:VEVENT
DTSTART;TZID=America/New_York:20221001T080000
DTEND;TZID=America/New_York:20221001T150000
DTSTAMP:20260423T161729
CREATED:20220504T180736Z
LAST-MODIFIED:20220504T211607Z
UID:242239-1664611200-1664636400@threeriverswhitewater.com
SUMMARY:Last Blast - Dead 6k
DESCRIPTION:It’s Last Blast! Ride an amazing 6000 CFS release on the Dead River!
URL:https://threeriverswhitewater.com/even/last-blast-dead-6k/
LOCATION:ME
CATEGORIES:Dead River Release
ATTACH;FMTTYPE=image/jpeg:https://threeriverswhitewater.com/wp-content/uploads/2022/05/37.jpg
END:VEVENT
BEGIN:VEVENT
DTSTART;TZID=America/New_York:20220930T210000
DTEND;TZID=America/New_York:20220930T210000
DTSTAMP:20260423T161729
CREATED:20220504T174405Z
LAST-MODIFIED:20220525T135722Z
UID:242330-1664571600-1664571600@threeriverswhitewater.com
SUMMARY:Karaoke Night
DESCRIPTION:Friday is Karaoke Night! Sing\, dance\, or plug your ears every Friday with Karaoke at Boatman’s Bar & Grill! First song begins at 9pm sharp
URL:https://threeriverswhitewater.com/even/karaoke-night-2022-09-30/
LOCATION:ME
CATEGORIES:Karaoke Night
ATTACH;FMTTYPE=image/jpeg:https://threeriverswhitewater.com/wp-content/uploads/2022/05/3-min.jpg
END:VEVENT
BEGIN:VEVENT
DTSTART;TZID=America/New_York:20220924T090000
DTEND;TZID=America/New_York:20220924T130000
DTSTAMP:20260423T161729
CREATED:20220504T180735Z
LAST-MODIFIED:20220504T220223Z
UID:242237-1664010000-1664024400@threeriverswhitewater.com
SUMMARY:8K High Water Release
DESCRIPTION:Every year Harris Station Dam schedules 4 high water “turbine tests” where they release their maximum flows at 8000 CFS or more!  This turns the rapids we normally run on our Kennebec River trip into the BIGGEST rapids in New England! If you enjoyed our normal Kennebec River trips but wanted more action\, this is the trip for you.
URL:https://threeriverswhitewater.com/even/8k-high-water-release-4/
LOCATION:Three Rivers Whitewater\, 2265 US-201\, West Forks\, ME\, 04985\, United States
CATEGORIES:High Water Release
ATTACH;FMTTYPE=image/jpeg:https://threeriverswhitewater.com/wp-content/uploads/2022/05/29.jpg
END:VEVENT
BEGIN:VEVENT
DTSTART;TZID=America/New_York:20220923T210000
DTEND;TZID=America/New_York:20220923T210000
DTSTAMP:20260423T161729
CREATED:20220504T174405Z
LAST-MODIFIED:20220525T135722Z
UID:242329-1663966800-1663966800@threeriverswhitewater.com
SUMMARY:Karaoke Night
DESCRIPTION:Friday is Karaoke Night! Sing\, dance\, or plug your ears every Friday with Karaoke at Boatman’s Bar & Grill! First song begins at 9pm sharp
URL:https://threeriverswhitewater.com/even/karaoke-night-2022-09-23/
LOCATION:ME
CATEGORIES:Karaoke Night
ATTACH;FMTTYPE=image/jpeg:https://threeriverswhitewater.com/wp-content/uploads/2022/05/3-min.jpg
END:VEVENT
BEGIN:VEVENT
DTSTART;TZID=America/New_York:20220917T080000
DTEND;TZID=America/New_York:20220917T150000
DTSTAMP:20260423T161729
CREATED:20220504T180735Z
LAST-MODIFIED:20220504T211609Z
UID:242236-1663401600-1663426800@threeriverswhitewater.com
SUMMARY:Dead 3.5k Release
DESCRIPTION:The Dead River Rafting Trip is the most unique river trip in Maine. We only raft the Dead River 8 times per season during a Dead River Release. This river trip is known for having the most continuous stretch of whitewater rapids in the East.
URL:https://threeriverswhitewater.com/even/dead-3-5k-release/
LOCATION:Three Rivers Whitewater\, 2265 US-201\, West Forks\, ME\, 04985\, United States
CATEGORIES:Dead River Release
ATTACH;FMTTYPE=image/jpeg:https://threeriverswhitewater.com/wp-content/uploads/2022/05/36.jpg
END:VEVENT
BEGIN:VEVENT
DTSTART;TZID=America/New_York:20220916T210000
DTEND;TZID=America/New_York:20220916T210000
DTSTAMP:20260423T161729
CREATED:20220504T174405Z
LAST-MODIFIED:20220525T135722Z
UID:242328-1663362000-1663362000@threeriverswhitewater.com
SUMMARY:Karaoke Night
DESCRIPTION:Friday is Karaoke Night! Sing\, dance\, or plug your ears every Friday with Karaoke at Boatman’s Bar & Grill! First song begins at 9pm sharp
URL:https://threeriverswhitewater.com/even/karaoke-night-2022-09-16/
LOCATION:ME
CATEGORIES:Karaoke Night
ATTACH;FMTTYPE=image/jpeg:https://threeriverswhitewater.com/wp-content/uploads/2022/05/3-min.jpg
END:VEVENT
BEGIN:VEVENT
DTSTART;TZID=America/New_York:20220910T090000
DTEND;TZID=America/New_York:20220910T130000
DTSTAMP:20260423T161729
CREATED:20220504T180540Z
LAST-MODIFIED:20220504T215912Z
UID:242235-1662800400-1662814800@threeriverswhitewater.com
SUMMARY:8K High Water Release
DESCRIPTION:Every year Harris Station Dam schedules 4 high water “turbine tests” where they release their maximum flows at 8000 CFS or more!  This turns the rapids we normally run on our Kennebec River trip into the BIGGEST rapids in New England! If you enjoyed our normal Kennebec River trips but wanted more action\, this is the trip for you.
URL:https://threeriverswhitewater.com/even/8k-high-water-release-3/
LOCATION:Three Rivers Whitewater\, 2265 US-201\, West Forks\, ME\, 04985\, United States
CATEGORIES:High Water Release
ATTACH;FMTTYPE=image/jpeg:https://threeriverswhitewater.com/wp-content/uploads/2022/05/25-min.jpg
END:VEVENT
BEGIN:VEVENT
DTSTART;TZID=America/New_York:20220909T210000
DTEND;TZID=America/New_York:20220909T210000
DTSTAMP:20260423T161729
CREATED:20220504T174405Z
LAST-MODIFIED:20220525T135721Z
UID:242327-1662757200-1662757200@threeriverswhitewater.com
SUMMARY:Karaoke Night
DESCRIPTION:Friday is Karaoke Night! Sing\, dance\, or plug your ears every Friday with Karaoke at Boatman’s Bar & Grill! First song begins at 9pm sharp
URL:https://threeriverswhitewater.com/even/karaoke-night-2022-09-09/
LOCATION:ME
CATEGORIES:Karaoke Night
ATTACH;FMTTYPE=image/jpeg:https://threeriverswhitewater.com/wp-content/uploads/2022/05/3-min.jpg
END:VEVENT
BEGIN:VEVENT
DTSTART;TZID=America/New_York:20220904T130000
DTEND;TZID=America/New_York:20220904T210000
DTSTAMP:20260423T161729
CREATED:20220504T180540Z
LAST-MODIFIED:20220504T213845Z
UID:242233-1662296400-1662325200@threeriverswhitewater.com
SUMMARY:Reggae Sunday - RED LION ROCKERS
DESCRIPTION:Reggae Sunday is a celebration\, twice a year\, at the Inn By The River! Enjoy fresh Jamaican food specials on the grill and outdoor live music into the evening
URL:https://threeriverswhitewater.com/even/reggae-sunday-red-lion-rockers-2/
LOCATION:Inn By The River\, 2777 US-201\, West Forks\, ME\, 04985\, United States
CATEGORIES:Reggae Sunday
ATTACH;FMTTYPE=image/jpeg:https://threeriverswhitewater.com/wp-content/uploads/2020/09/reggae-min.jpg
END:VEVENT
BEGIN:VEVENT
DTSTART;TZID=America/New_York:20220904T080000
DTEND;TZID=America/New_York:20220904T150000
DTSTAMP:20260423T161729
CREATED:20220504T180540Z
LAST-MODIFIED:20220504T211440Z
UID:242234-1662278400-1662303600@threeriverswhitewater.com
SUMMARY:Dead 5.5k Release
DESCRIPTION:The Dead River Rafting Trip is the most unique river trip in Maine. We only raft the Dead River 8 times per season during a Dead River Release. This river trip is known for having the most continuous stretch of whitewater rapids in the East.
URL:https://threeriverswhitewater.com/even/dead-5-5k-release/
LOCATION:Three Rivers Whitewater\, 2265 US-201\, West Forks\, ME\, 04985\, United States
CATEGORIES:Dead River Release
ATTACH;FMTTYPE=image/jpeg:https://threeriverswhitewater.com/wp-content/uploads/2022/05/35.jpg
END:VEVENT
BEGIN:VEVENT
DTSTART;TZID=America/New_York:20220903T190000
DTEND;TZID=America/New_York:20220903T230000
DTSTAMP:20260423T161729
CREATED:20220504T180540Z
LAST-MODIFIED:20220504T224746Z
UID:242232-1662231600-1662246000@threeriverswhitewater.com
SUMMARY:Analog salad
DESCRIPTION:Enjoy the music of Analog Salad!  We feature live music and a bonfire every weekend at the Boatman’s Bar & Grill!
URL:https://threeriverswhitewater.com/even/analog-salad/
LOCATION:ME
CATEGORIES:Live Music
ATTACH;FMTTYPE=image/png:https://threeriverswhitewater.com/wp-content/uploads/2022/05/4.png
END:VEVENT
BEGIN:VEVENT
DTSTART;TZID=America/New_York:20220902T210000
DTEND;TZID=America/New_York:20220902T210000
DTSTAMP:20260423T161729
CREATED:20220504T174405Z
LAST-MODIFIED:20220525T135721Z
UID:242326-1662152400-1662152400@threeriverswhitewater.com
SUMMARY:Karaoke Night
DESCRIPTION:Friday is Karaoke Night! Sing\, dance\, or plug your ears every Friday with Karaoke at Boatman’s Bar & Grill! First song begins at 9pm sharp
URL:https://threeriverswhitewater.com/even/karaoke-night-2022-09-02/
LOCATION:ME
CATEGORIES:Karaoke Night
ATTACH;FMTTYPE=image/jpeg:https://threeriverswhitewater.com/wp-content/uploads/2022/05/3-min.jpg
END:VEVENT
BEGIN:VEVENT
DTSTART;TZID=America/New_York:20220826T210000
DTEND;TZID=America/New_York:20220826T210000
DTSTAMP:20260423T161729
CREATED:20220504T174405Z
LAST-MODIFIED:20220525T135721Z
UID:242325-1661547600-1661547600@threeriverswhitewater.com
SUMMARY:Karaoke Night
DESCRIPTION:Friday is Karaoke Night! Sing\, dance\, or plug your ears every Friday with Karaoke at Boatman’s Bar & Grill! First song begins at 9pm sharp
URL:https://threeriverswhitewater.com/even/karaoke-night-2022-08-26/
LOCATION:ME
CATEGORIES:Karaoke Night
ATTACH;FMTTYPE=image/jpeg:https://threeriverswhitewater.com/wp-content/uploads/2022/05/3-min.jpg
END:VEVENT
BEGIN:VEVENT
DTSTART;TZID=America/New_York:20220819T210000
DTEND;TZID=America/New_York:20220819T210000
DTSTAMP:20260423T161729
CREATED:20220504T174405Z
LAST-MODIFIED:20220525T135713Z
UID:242324-1660942800-1660942800@threeriverswhitewater.com
SUMMARY:Karaoke Night
DESCRIPTION:Friday is Karaoke Night! Sing\, dance\, or plug your ears every Friday with Karaoke at Boatman’s Bar & Grill! First song begins at 9pm sharp
URL:https://threeriverswhitewater.com/even/karaoke-night-2022-08-19/
LOCATION:ME
CATEGORIES:Karaoke Night
ATTACH;FMTTYPE=image/jpeg:https://threeriverswhitewater.com/wp-content/uploads/2022/05/3-min.jpg
END:VEVENT
BEGIN:VEVENT
DTSTART;TZID=America/New_York:20220813T190000
DTEND;TZID=America/New_York:20220813T230000
DTSTAMP:20260423T161729
CREATED:20220504T180525Z
LAST-MODIFIED:20220504T224107Z
UID:242228-1660417200-1660431600@threeriverswhitewater.com
SUMMARY:Chris Fitz
DESCRIPTION:Enjoy the music of Chris Fitz!  We feature live music and a bonfire every weekend at the Boatman’s Bar & Grill!
URL:https://threeriverswhitewater.com/even/chris-fitz-2/
LOCATION:ME
CATEGORIES:Live Music
ATTACH;FMTTYPE=image/jpeg:https://threeriverswhitewater.com/wp-content/uploads/2022/05/7-min.jpg
END:VEVENT
BEGIN:VEVENT
DTSTART;TZID=America/New_York:20220812T210000
DTEND;TZID=America/New_York:20220812T210000
DTSTAMP:20260423T161729
CREATED:20220504T174405Z
LAST-MODIFIED:20220525T135713Z
UID:242323-1660338000-1660338000@threeriverswhitewater.com
SUMMARY:Karaoke Night
DESCRIPTION:Friday is Karaoke Night! Sing\, dance\, or plug your ears every Friday with Karaoke at Boatman’s Bar & Grill! First song begins at 9pm sharp
URL:https://threeriverswhitewater.com/even/karaoke-night-2022-08-12/
LOCATION:ME
CATEGORIES:Karaoke Night
ATTACH;FMTTYPE=image/jpeg:https://threeriverswhitewater.com/wp-content/uploads/2022/05/3-min.jpg
END:VEVENT
BEGIN:VEVENT
DTSTART;TZID=America/New_York:20220812T190000
DTEND;TZID=America/New_York:20220812T230000
DTSTAMP:20260423T161729
CREATED:20220504T180524Z
LAST-MODIFIED:20220504T224024Z
UID:242227-1660330800-1660345200@threeriverswhitewater.com
SUMMARY:Chris Fitz
DESCRIPTION:Enjoy the music of Chris Fitz!  We feature live music and a bonfire every weekend at the Boatman’s Bar & Grill!
URL:https://threeriverswhitewater.com/even/chris-fitz/
LOCATION:ME
CATEGORIES:Live Music
ATTACH;FMTTYPE=image/jpeg:https://threeriverswhitewater.com/wp-content/uploads/2022/05/7-min.jpg
END:VEVENT
BEGIN:VEVENT
DTSTART;TZID=America/New_York:20220806T190000
DTEND;TZID=America/New_York:20220806T230000
DTSTAMP:20260423T161729
CREATED:20220504T180524Z
LAST-MODIFIED:20220504T224755Z
UID:242226-1659812400-1659826800@threeriverswhitewater.com
SUMMARY:Roy Hudson Band
DESCRIPTION:Enjoy the music of the Roy Hudson Band!  We feature live music and a bonfire every weekend at the Boatman’s Bar & Grill!
URL:https://threeriverswhitewater.com/even/roy-hudson-band/
LOCATION:ME
CATEGORIES:Live Music
ATTACH;FMTTYPE=image/png:https://threeriverswhitewater.com/wp-content/uploads/2022/05/5.png
END:VEVENT
BEGIN:VEVENT
DTSTART;TZID=America/New_York:20220805T210000
DTEND;TZID=America/New_York:20220805T210000
DTSTAMP:20260423T161729
CREATED:20220504T174405Z
LAST-MODIFIED:20220525T135712Z
UID:242322-1659733200-1659733200@threeriverswhitewater.com
SUMMARY:Karaoke Night
DESCRIPTION:Friday is Karaoke Night! Sing\, dance\, or plug your ears every Friday with Karaoke at Boatman’s Bar & Grill! First song begins at 9pm sharp
URL:https://threeriverswhitewater.com/even/karaoke-night-2022-08-05/
LOCATION:ME
CATEGORIES:Karaoke Night
ATTACH;FMTTYPE=image/jpeg:https://threeriverswhitewater.com/wp-content/uploads/2022/05/3-min.jpg
END:VEVENT
BEGIN:VEVENT
DTSTART;TZID=America/New_York:20220729T210000
DTEND;TZID=America/New_York:20220729T210000
DTSTAMP:20260423T161729
CREATED:20220504T174405Z
LAST-MODIFIED:20220525T135712Z
UID:242321-1659128400-1659128400@threeriverswhitewater.com
SUMMARY:Karaoke Night
DESCRIPTION:Friday is Karaoke Night! Sing\, dance\, or plug your ears every Friday with Karaoke at Boatman’s Bar & Grill! First song begins at 9pm sharp
URL:https://threeriverswhitewater.com/even/karaoke-night-2022-07-29/
LOCATION:ME
CATEGORIES:Karaoke Night
ATTACH;FMTTYPE=image/jpeg:https://threeriverswhitewater.com/wp-content/uploads/2022/05/3-min.jpg
END:VEVENT
BEGIN:VEVENT
DTSTART;TZID=America/New_York:20220722T210000
DTEND;TZID=America/New_York:20220722T210000
DTSTAMP:20260423T161729
CREATED:20220504T174405Z
LAST-MODIFIED:20220525T135712Z
UID:242320-1658523600-1658523600@threeriverswhitewater.com
SUMMARY:Karaoke Night
DESCRIPTION:Friday is Karaoke Night! Sing\, dance\, or plug your ears every Friday with Karaoke at Boatman’s Bar & Grill! First song begins at 9pm sharp
URL:https://threeriverswhitewater.com/even/karaoke-night-2022-07-22/
LOCATION:ME
CATEGORIES:Karaoke Night
ATTACH;FMTTYPE=image/jpeg:https://threeriverswhitewater.com/wp-content/uploads/2022/05/3-min.jpg
END:VEVENT
BEGIN:VEVENT
DTSTART;TZID=America/New_York:20220715T210000
DTEND;TZID=America/New_York:20220715T210000
DTSTAMP:20260423T161729
CREATED:20220504T174405Z
LAST-MODIFIED:20220525T135711Z
UID:242319-1657918800-1657918800@threeriverswhitewater.com
SUMMARY:Karaoke Night
DESCRIPTION:Friday is Karaoke Night! Sing\, dance\, or plug your ears every Friday with Karaoke at Boatman’s Bar & Grill! First song begins at 9pm sharp
URL:https://threeriverswhitewater.com/even/karaoke-night-2022-07-15/
LOCATION:ME
CATEGORIES:Karaoke Night
ATTACH;FMTTYPE=image/jpeg:https://threeriverswhitewater.com/wp-content/uploads/2022/05/3-min.jpg
END:VEVENT
BEGIN:VEVENT
DTSTART;TZID=America/New_York:20220709T190000
DTEND;TZID=America/New_York:20220709T230000
DTSTAMP:20260423T161729
CREATED:20220504T174925Z
LAST-MODIFIED:20220504T223912Z
UID:242220-1657393200-1657407600@threeriverswhitewater.com
SUMMARY:Hambone
DESCRIPTION:Enjoy the music of Hambone!  We feature live music and a bonfire every weekend at the Boatman’s Bar & Grill!
URL:https://threeriverswhitewater.com/even/hambone/
LOCATION:ME
CATEGORIES:Live Music
ATTACH;FMTTYPE=image/jpeg:https://threeriverswhitewater.com/wp-content/uploads/2022/05/5-min.jpg
END:VEVENT
END:VCALENDAR