BEGIN:VCALENDAR
VERSION:2.0
PRODID:-//Three Rivers Whitewater - ECPv6.15.20//NONSGML v1.0//EN
CALSCALE:GREGORIAN
METHOD:PUBLISH
X-ORIGINAL-URL:https://threeriverswhitewater.com
X-WR-CALDESC:Events for Three Rivers Whitewater
REFRESH-INTERVAL;VALUE=DURATION:PT1H
X-Robots-Tag:noindex
X-PUBLISHED-TTL:PT1H
BEGIN:VTIMEZONE
TZID:America/New_York
BEGIN:DAYLIGHT
TZOFFSETFROM:-0500
TZOFFSETTO:-0400
TZNAME:EDT
DTSTART:20240310T070000
END:DAYLIGHT
BEGIN:STANDARD
TZOFFSETFROM:-0400
TZOFFSETTO:-0500
TZNAME:EST
DTSTART:20241103T060000
END:STANDARD
BEGIN:DAYLIGHT
TZOFFSETFROM:-0500
TZOFFSETTO:-0400
TZNAME:EDT
DTSTART:20250309T070000
END:DAYLIGHT
BEGIN:STANDARD
TZOFFSETFROM:-0400
TZOFFSETTO:-0500
TZNAME:EST
DTSTART:20251102T060000
END:STANDARD
BEGIN:DAYLIGHT
TZOFFSETFROM:-0500
TZOFFSETTO:-0400
TZNAME:EDT
DTSTART:20260308T070000
END:DAYLIGHT
BEGIN:STANDARD
TZOFFSETFROM:-0400
TZOFFSETTO:-0500
TZNAME:EST
DTSTART:20261101T060000
END:STANDARD
END:VTIMEZONE
BEGIN:VEVENT
DTSTART;TZID=America/New_York:20250719T210000
DTEND;TZID=America/New_York:20250719T230000
DTSTAMP:20260423T105630
CREATED:20250710T200152Z
LAST-MODIFIED:20250711T163418Z
UID:246179-1752958800-1752966000@threeriverswhitewater.com
SUMMARY:LIVE MUSIC - Rigometrics
DESCRIPTION:Presented by ORONO BREWING – Saturday July19th- RIGOMETRICS comes to the Boatman’s Bar and Grill !!!
URL:https://threeriverswhitewater.com/even/live-music-rigometrics/
LOCATION:Boatman’s Bar & Grille\, 2265 US-201\, West Forks\, West Forks\, ME\, 04985\, United States
CATEGORIES:Live Music
ATTACH;FMTTYPE=image/jpeg:https://threeriverswhitewater.com/wp-content/uploads/2025/07/502377716_1157644069735527_416911938489475328_n.jpg
END:VEVENT
END:VCALENDAR